BEGIN:VCALENDAR
VERSION:2.0
PRODID:-//Volt Europa//Events//EN
CALSCALE:GREGORIAN
METHOD:PUBLISH
BEGIN:VEVENT
UID:bootcamp-europa-initiative-german-1714062600@voltschweiz.org
DTSTAMP:20260423T143956Z
DTSTART;TZID=Europe/Zurich:20240425T183000
DTEND;TZID=Europe/Zurich:20240425T193000
SUMMARY:Bootcamp Europa-Initiative (German)
DESCRIPTION:This event will be held in German. On Thursday\, 25 April 2024 
 at 18:30 the online kick-off and the first boot camp of Volt Switzerland on
  the Europe Initiative will take place! Roland Müller and Danilo Lo Pumo (
 the co-presidents of Volt Switzerland and representatives for Volt in the E
 urope-Alliance) will present the initiative\, we will discuss the most impo
 rtant arguments for the street\, share tips for collecting signatures and b
 e available for questions. In short\, we'll get you ready for the r
LOCATION:Online
URL:https://voltswitzerland.org/events/bootcamp-europa-initiative-german
END:VEVENT
END:VCALENDAR
