BEGIN:VCALENDAR
VERSION:2.0
PRODID:-//Volt Europa//Events//EN
CALSCALE:GREGORIAN
METHOD:PUBLISH
BEGIN:VEVENT
UID:climate-strike-1744385400@voltschweiz.org
DTSTAMP:20260423T123037Z
DTSTART;TZID=Europe/Zurich:20250411T173000
DTEND;TZID=Europe/Zurich:20250411T213000
SUMMARY:Volt @ Climate strike 2025
DESCRIPTION:On Friday April 11\, the global climate strike will take place!
  Come by and join the most ecological party in Europe (according to a recen
 t study by WWF) 🌿
LOCATION:Bundesplatz Bern
URL:https://voltswitzerland.org/events/climate-strike
END:VEVENT
END:VCALENDAR
