BEGIN:VCALENDAR
VERSION:2.0
PRODID:-//Volt Europa//Events//EN
CALSCALE:GREGORIAN
METHOD:PUBLISH
BEGIN:VEVENT
UID:feminist-strike-1749895200@voltschweiz.org
DTSTAMP:20260423T170325Z
DTSTART;TZID=Europe/Zurich:20250614T120000
DTEND;TZID=Europe/Zurich:20250614T200000
SUMMARY:Volt @ Feminist strike
DESCRIPTION:No step backwards! Together for more equality. Come with us to 
 the Feminist Strike all over Switzerland: Basel\, 14:00 Barfüsserplatz Ber
 n\, 15:30 Bundesplatz Zürich\, 15:00 Rudolf*a-Brun-Brücke Genf\, 15:00 Pa
 rc des Cropettes St. Gallen\, 16:00 Kornhausplatz
LOCATION:throughout Switzerland
URL:https://voltswitzerland.org/events/feminist-strike
END:VEVENT
END:VCALENDAR
