BEGIN:VCALENDAR
VERSION:2.0
PRODID:-//Volt Europa//Events//EN
CALSCALE:GREGORIAN
METHOD:PUBLISH
BEGIN:VEVENT
UID:festivolt-1754146800@voltschweiz.org
DTSTAMP:20260423T142956Z
DTSTART;TZID=Europe/Zurich:20250802T170000
DTEND;TZID=Europe/Zurich:20250802T220000
SUMMARY:FestiVolt Schweiz 💜
DESCRIPTION:🎉 FestiVolt Schweiz 💜 Edition #1 is coming! 🎉 Wir feie
 rn\, vernetzen uns und geniessen den Sommer gemeinsam Wann?  Samstag\, 2. A
 ugust 2025\, den ganzen Tag (oder auch nur ein Teil davon\, du entscheidest
 !) Was geht? 🌈 Gemeinsam zur Berner Pride\, wir bringen Farbe in die Alt
 stadt🏳‍🌈🏳‍🌈 💦 Danach: Aareschwumm\, Chillen am Wasser\, 
 feine Beats\, gutes Essen\, kalte Drinks & noch bessere Gesellschaft. Save 
 the Date\, pack die Badehose ein und bring deine besten Vibes mit. Weitere 
 Details folgen\, aber halt di
LOCATION:Bern
URL:https://voltschweiz.org/veranstaltungen/festivolt
END:VEVENT
END:VCALENDAR
