BEGIN:VCALENDAR
VERSION:2.0
PRODID:-//Volt Europa//Events//EN
CALSCALE:GREGORIAN
METHOD:PUBLISH
BEGIN:VEVENT
UID:help-shape-diversity-in-political-parties-1764421200@voltschweiz.org
DTSTAMP:20260423T123351Z
DTSTART;TZID=Europe/Zurich:20251129T140000
DTEND;TZID=Europe/Zurich:20251129T170000
SUMMARY:Help shape diversity in political parties
DESCRIPTION:Do you feel that political parties are often not representative
  enough? Would you like to play an active role in promoting greater diversi
 ty in politics and society? Then sign up for our workshop. Let's find solut
 ions together – with the support of an equal opportunities officer!  Ever
 yone is welcome – even if you are not a member of a political party. We l
 ook forward to seeing you!  Languages? German and English.
LOCATION:Villa Stucki\, Raum ‘Ahorn’ (barrierefrei) Seftigenstrasse 11\
 , 3007 Bern
URL:https://voltswitzerland.org/events/help-shape-diversity-in-political-pa
 rties
END:VEVENT
END:VCALENDAR
