BEGIN:VCALENDAR
VERSION:2.0
PRODID:-//Volt Europa//Events//EN
CALSCALE:GREGORIAN
METHOD:PUBLISH
BEGIN:VEVENT
UID:march-for-open-borders-basel-1752922800@voltschweiz.org
DTSTAMP:20260423T122708Z
DTSTART;TZID=Europe/Zurich:20250719T130000
DTEND;TZID=Europe/Zurich:20250719T160000
SUMMARY:March for Open Borders Basel
DESCRIPTION:Europa steht an einem Wendepunkt. Die Wiedereinführung von Gre
 nzkontrollen und die Aushöhlung des Schengen-Raums bedrohen unsere Freihei
 t\, unsere Zusammenarbeit und unsere europäische Identität. Auch die Schw
 eiz bleibt davon nicht unberührt. Seit über eineinhalb Jahren dauern die 
 „temporären“ Grenzkontrollen an - und es werden immer mehr. Jüngst ha
 t Polen die Grenzen zu Deutschland und Litauen faktisch geschlossen. Deutsc
 hland wiederum kontrolliert an fast allen Grenzen.  Das wollen wir nicht h
 i
LOCATION:Kreisverkehr (Alte Strasse / Colmarer Strasse)  vor A.T.U. - Weil 
 am Rhein (Friedlingen)
URL:https://voltschweiz.org/veranstaltungen/march-for-open-borders-basel
END:VEVENT
END:VCALENDAR
