BEGIN:VCALENDAR
VERSION:2.0
PRODID:-//Volt Europa//Events//EN
CALSCALE:GREGORIAN
METHOD:PUBLISH
BEGIN:VEVENT
UID:meet-volt-europa-1713805200@voltschweiz.org
DTSTAMP:20260425T103855Z
DTSTART;TZID=Europe/Zurich:20240422T190000
DTEND;TZID=Europe/Zurich:20240422T203000
SUMMARY:Meet Volt Europa
DESCRIPTION:Volt Europa invites you to hang out with us\, get to know Volt 
 and learn more about our way of shaping the future of Europe. Share your id
 eas and thoughts with other Europeans at this event! Help us build a united
  and strong Europe together.Meet Volt Europe is an online event that takes 
 place on the 22nd of every month. In addition to our usual channels "Intere
 sted in Volt" and "New to Volt"\, we want to offer a varied programme for m
 embers and non-members. Further details of this month's programm
LOCATION:Online on Zoom
URL:https://voltswitzerland.org/events/meet-volt-europa
END:VEVENT
END:VCALENDAR
