BEGIN:VCALENDAR
VERSION:2.0
PRODID:-//Volt Europa//Events//EN
CALSCALE:GREGORIAN
METHOD:PUBLISH
BEGIN:VEVENT
UID:signaturecollection-1714892400@voltschweiz.org
DTSTAMP:20260425T103855Z
DTSTART;TZID=Europe/Zurich:20240505T090000
DTEND;TZID=Europe/Zurich:20240505T120000
SUMMARY:Signature collection for the Europe-Initiative
DESCRIPTION:Get on the streets and collect signatures for the Europe-Initia
 tive with us!
LOCATION:Bern / Zürich
URL:https://voltswitzerland.org/events/signaturecollection
END:VEVENT
END:VCALENDAR
