BEGIN:VCALENDAR
VERSION:2.0
PRODID:-//Volt Europa//Events//EN
CALSCALE:GREGORIAN
METHOD:PUBLISH
BEGIN:VEVENT
UID:volt-aargau-pride-demonstration-1725714000@voltschweiz.org
DTSTAMP:20260423T210401Z
DTSTART;TZID=Europe/Zurich:20240907T150000
DTEND;TZID=Europe/Zurich:20240907T170000
SUMMARY:Volt @ Pride Aargau Demonstration
DESCRIPTION:Wir nehmen dieses Jahr an der Pride Aargau Teil! Komm vorbei un
 d setze gemeinsam ein Zeichen für Inklusion von allen! Volt kämpft für G
 leichstellung der LGBTQIA+ Community in ganz Europa. Und gerade in der aktu
 ellen Zeit ist das wieder wichtig. Also komm mit uns auf die Strasse!
LOCATION:Bahnhofplatz\, Aarau
URL:https://voltschweiz.org/veranstaltungen/volt-aargau-pride-demonstration
END:VEVENT
END:VCALENDAR
