BEGIN:VCALENDAR
VERSION:2.0
PRODID:-//Volt Europa//Events//EN
CALSCALE:GREGORIAN
METHOD:PUBLISH
BEGIN:VEVENT
UID:volt-basel-pride-demonstration-1751117400@voltschweiz.org
DTSTAMP:20260423T141152Z
DTSTART;TZID=Europe/Zurich:20250628T153000
DTEND;TZID=Europe/Zurich:20250628T180000
SUMMARY:Volt @ Basel Pride Demonstration
DESCRIPTION:Wir nehmen dieses Jahr an der Basel Pride Teil! Komm vorbei und
  setze gemeinsam ein Zeichen für Inklusion von allen! Volt kämpft für Gl
 eichstellung der LGBTQIA+ Community in ganz Europa. Und gerade in der aktue
 llen Zeit ist das wieder wichtig. Also komm mit uns auf die Strasse!
LOCATION:Basel
URL:https://voltschweiz.org/veranstaltungen/volt-basel-pride-demonstration
END:VEVENT
END:VCALENDAR
