BEGIN:VCALENDAR
VERSION:2.0
PRODID:-//Volt Europa//Events//EN
CALSCALE:GREGORIAN
METHOD:PUBLISH
BEGIN:VEVENT
UID:volt-bern-demo-psych-gesundheit-1755345600@voltschweiz.org
DTSTAMP:20260423T112733Z
DTSTART;TZID=Europe/Zurich:20250816T140000
DTEND;TZID=Europe/Zurich:20250816T170000
SUMMARY:Volt @ Demo «Gegen die psychotherapeutische Versorgungskrise» Ber
 n
DESCRIPTION:Wir nehmen an der Demo Gegen die psychotherapeutische Versorgun
 gskrise teil. Komm mit uns auf die Strasse\, um für mehr Therapieplätze u
 nd eine gesicherte Versorgung einzustehen.
LOCATION:Waisenhausplatz\, Bern
URL:https://voltschweiz.org/veranstaltungen/volt-bern-demo-psych-gesundheit
END:VEVENT
END:VCALENDAR
