BEGIN:VCALENDAR
VERSION:2.0
PRODID:-//Volt Europa//Events//EN
CALSCALE:GREGORIAN
METHOD:PUBLISH
BEGIN:VEVENT
UID:volt-bern-meet-greet-2-1745236800@voltschweiz.org
DTSTAMP:20260423T142034Z
DTSTART;TZID=Europe/Zurich:20250421T140000
DTEND;TZID=Europe/Zurich:20250421T160000
SUMMARY:Volt Bern Easter Walk
DESCRIPTION:Zusammen treffen wir uns vor der Station der Gurtenbahn und lau
 fen dann den Hügel hinauf.
LOCATION:Gurtenbahn\, Köniz
URL:https://voltschweiz.org/veranstaltungen/volt-bern-meet-greet-2
END:VEVENT
END:VCALENDAR
