BEGIN:VCALENDAR
VERSION:2.0
PRODID:-//Volt Europa//Events//EN
CALSCALE:GREGORIAN
METHOD:PUBLISH
BEGIN:VEVENT
UID:volt-bern-pride-demonstration-1754136000@voltschweiz.org
DTSTAMP:20260423T182954Z
DTSTART;TZID=Europe/Zurich:20250802T140000
DTEND;TZID=Europe/Zurich:20250802T170000
SUMMARY:Volt @ Bern Pride Demonstration
DESCRIPTION:Wir nehmen auch dieses Jahr an der Bern Pride Teil! Komm vorbei
  und setze gemeinsam ein Zeichen für Inklusion von allen! Volt kämpft fü
 r Gleichstellung der LGBTQIA+ Community in ganz Europa. Und gerade in der a
 ktuellen Zeit ist das wieder wichtig. Also komm mit uns auf die Strasse!
LOCATION:Schützenmatte\, Bern
URL:https://voltschweiz.org/veranstaltungen/volt-bern-pride-demonstration
END:VEVENT
END:VCALENDAR
