BEGIN:VCALENDAR
VERSION:2.0
PRODID:-//Volt Europa//Events//EN
CALSCALE:GREGORIAN
METHOD:PUBLISH
BEGIN:VEVENT
UID:volt-brunch-1716627600@voltschweiz.org
DTSTAMP:20260423T150435Z
DTSTART;TZID=Europe/Zurich:20240525T110000
DTEND;TZID=Europe/Zurich:20240525T150000
SUMMARY:Volt's Pan-European Brunch mit Frankreich\, Italien und Spanien
DESCRIPTION:Du bist ursprÃ¼nglich aus Frankreich\, Italien oder Spanien mit
  Wohnsitz in der Schweiz und mÃ¶chtest eine neue europÃ¤ische Bewegung kenn
 en lernen? Volt organisiert fÃ¼r die Europa-Kampagne ein Treffen der franzÃ
 ¶sischen\, italienischen\, spanischen und schweizerischen Chapter in ZÃ¼ric
 h. Dieser Brunch wird eine Gelegenheit sein\, Ã¼ber die europÃ¤ische Vision
  und das gemeinsame europÃ¤ische Programm zu diskutieren. Du wirst auch die
  Gelegenheit haben\, mit Mitgliedern der Bewegung aus anderen Chaptern zu d
 i
LOCATION:Punto de Encuentro\, Josefstrasse 102\, 8005 ZÃ¼rich
URL:https://voltschweiz.org/veranstaltungen/volt-brunch
END:VEVENT
END:VCALENDAR
