BEGIN:VCALENDAR
VERSION:2.0
PRODID:-//Volt Europa//Events//EN
CALSCALE:GREGORIAN
METHOD:PUBLISH
BEGIN:VEVENT
UID:volt-geneva-pride-demonstration-1749297600@voltschweiz.org
DTSTAMP:20260423T143306Z
DTSTART;TZID=Europe/Zurich:20250607T140000
DTEND;TZID=Europe/Zurich:20250802T170000
SUMMARY:Volt @ Geneva Pride Demonstration
DESCRIPTION:Wir nehmen auch dieses Jahr an der Geneva Pride Teil! Komm vorb
 ei und setze gemeinsam ein Zeichen für Inklusion von allen! Volt kämpft f
 ür Gleichstellung der LGBTQIA+ Community in ganz Europa. Und gerade in der
  aktuellen Zeit ist das wieder wichtig. Also komm mit uns auf die Strasse!
LOCATION:Quai Wilson\, Genève
URL:https://voltschweiz.org/veranstaltungen/volt-geneva-pride-demonstration
END:VEVENT
END:VCALENDAR
