BEGIN:VCALENDAR
VERSION:2.0
PRODID:-//Volt Europa//Events//EN
CALSCALE:GREGORIAN
METHOD:PUBLISH
BEGIN:VEVENT
UID:volt-geneve-earth-hour-walk-1742637600@voltschweiz.org
DTSTAMP:20260423T143442Z
DTSTART;TZID=Europe/Zurich:20250322T110000
DTEND;TZID=Europe/Zurich:20250322T150000
SUMMARY:Volt Genève Earth Hour Walk
DESCRIPTION:Anlässlich der Earth Hour organisiert Volt Genf diesen besonde
 ren Spaziergang mit Besuch des Streichelzoos. Gemeinsam starten wir an der 
 Bushaltestelle Lignon Cité in Vernier und laufen die 7 Kilometer von der B
 ushaltestelle zurück in Richtung Genf und enden beim Café de la Tour\, de
 m nächsten Streichelzoo. Diejenigen\, die nicht laufen können oder wollen
 \, können sich uns später\, gegen 13:30 Uhr\, anschliessen. Die Veranstal
 tung ist für alle offen\, also bring Familie und Freunde mit.
LOCATION:Lignon Cité Bus Stop\, Vernier
URL:https://voltschweiz.org/veranstaltungen/volt-geneve-earth-hour-walk
END:VEVENT
END:VCALENDAR
