BEGIN:VCALENDAR
VERSION:2.0
PRODID:-//Volt Europa//Events//EN
CALSCALE:GREGORIAN
METHOD:PUBLISH
BEGIN:VEVENT
UID:volt-geneve-meet-greet-1744732800@voltschweiz.org
DTSTAMP:20260423T141825Z
DTSTART;TZID=Europe/Zurich:20250415T180000
DTEND;TZID=Europe/Zurich:20250415T200000
SUMMARY:Volt Genève Meet & Greet
DESCRIPTION:Lern uns an einem gemüglichen Meet & Greet in Genf kennen. Kom
 m auf ein paar Bier vorbei und diskutier mit uns über Volt\, die Schweiz\,
  Europa und mehr.
LOCATION:Le Catalpa Bar\, Clos de la Fonderie 7\, 1227 Carouge
URL:https://voltschweiz.org/veranstaltungen/volt-geneve-meet-greet
END:VEVENT
END:VCALENDAR
