BEGIN:VCALENDAR
VERSION:2.0
PRODID:-//Volt Europa//Events//EN
CALSCALE:GREGORIAN
METHOD:PUBLISH
BEGIN:VEVENT
UID:volt-lausanne-kickoff-1743868800@voltschweiz.org
DTSTAMP:20260425T104345Z
DTSTART;TZID=Europe/Zurich:20250405T180000
DTEND;TZID=Europe/Zurich:20250405T200000
SUMMARY:Volt Lausanne Kick Off
DESCRIPTION:Am 5. April starten wir ein neues City Team in Lausanne 🥳 Na
 chdem wir in der Deutschschweiz stark gewachsen sind\, möchten nun auch in
  der Romandie unsere Ideen eines vereinten Europas und einer modernen Schwe
 iz\, die über ihren Tellerrand hinausschaut\, verbreiten. Komm daher vorbe
 i\, lern uns kennen und hilf mit\, das pro-Europäische Lager in Lausanne a
 ufzubauen. Bei uns sind alle willkommen 😊  Anmeldung:   https://doodle.c
 om/sign-up-sheet/participate/4d192960-bcd9-4ab6-8a80-54b9325bde0a/select
LOCATION:Pavillon Bar & Kitchen\, Pl. de la Riponne 10\, 1005 Lausanne
URL:https://voltschweiz.org/veranstaltungen/volt-lausanne-kickoff
END:VEVENT
END:VCALENDAR
