BEGIN:VCALENDAR
VERSION:2.0
PRODID:-//Volt Europa//Events//EN
CALSCALE:GREGORIAN
METHOD:PUBLISH
BEGIN:VEVENT
UID:volt-st-gallen-meet-greet-1740679200@voltschweiz.org
DTSTAMP:20260423T150912Z
DTSTART;TZID=Europe/Zurich:20250227T190000
DTEND;TZID=Europe/Zurich:20250227T210000
SUMMARY:Volt St. Gallen Meet & Greet
DESCRIPTION:Get to know us at a cosy meet & greet in St. Gallen. Come by fo
 r a few beers (or your favourite non-alcoholic drink) and discuss Volt\, Sw
 itzerland\, Europe and more with us.
LOCATION:Südbar\, Oberer Graben 3\, St. Gallen
URL:https://voltswitzerland.org/events/volt-st-gallen-meet-greet
END:VEVENT
END:VCALENDAR
