BEGIN:VCALENDAR
VERSION:2.0
PRODID:-//Volt Europa//Events//EN
CALSCALE:GREGORIAN
METHOD:PUBLISH
BEGIN:VEVENT
UID:volt-stgallen-pride-demonstration-1756555200@voltschweiz.org
DTSTAMP:20260423T123037Z
DTSTART;TZID=Europe/Zurich:20250830T140000
DTEND;TZID=Europe/Zurich:20250830T170000
SUMMARY:Volt @ St. Gallen Pride Demonstration
DESCRIPTION:Wir nehmen auch dieses Jahr an der St. Gallen Pride Teil! Komm 
 vorbei und setze gemeinsam ein Zeichen für Inklusion von allen! Volt kämp
 ft für Gleichstellung der LGBTQIA+ Community in ganz Europa. Und gerade in
  der aktuellen Zeit ist das wieder wichtig. Also komm mit uns auf die Stras
 se!
LOCATION:St. Gallen
URL:https://voltschweiz.org/veranstaltungen/volt-stgallen-pride-demonstrati
 on
END:VEVENT
END:VCALENDAR
