BEGIN:VCALENDAR
VERSION:2.0
PRODID:-//Volt Europa//Events//EN
CALSCALE:GREGORIAN
METHOD:PUBLISH
BEGIN:VEVENT
UID:volt-switzerland-national-assembly-1742029200@voltschweiz.org
DTSTAMP:20260423T123537Z
DTSTART;TZID=Europe/Zurich:20250315T100000
DTEND;TZID=Europe/Zurich:20250315T160000
SUMMARY:Volt Switzerland National Assembly 2025
DESCRIPTION:Am Samstag\, 15. März\, findet in Olten unsere jährliche Nati
 onalversammlung statt.  Melde dich jetzt an für einen spannenden Tag\, an 
 dem du andere Schweizer Volters kennenlernen\, spannende Gäste treffen und
  über die Zukunft der Partei entscheiden kannst.  Neben administrativen An
 gelegenheiten wie der Verabschiedung des Budgets für 2025 werden wir auch 
 von Volters aus ganz Europa hören\, die neue Strategie für Volt Europa un
 d die Schweiz diskutieren und über die kommenden Wahlen sprechen\, an dene
 n 
LOCATION:Flörli Olten\, Florastrasse 21\, 4600 Olten
URL:https://voltschweiz.org/veranstaltungen/volt-switzerland-national-assem
 bly
END:VEVENT
END:VCALENDAR
