BEGIN:VCALENDAR
VERSION:2.0
PRODID:-//Volt Europa//Events//EN
CALSCALE:GREGORIAN
METHOD:PUBLISH
BEGIN:VEVENT
UID:volt-triregio-basel-meet-greet-1-1747494000@voltschweiz.org
DTSTAMP:20260423T182337Z
DTSTART;TZID=Europe/Zurich:20250517T170000
DTEND;TZID=Europe/Zurich:20250517T233000
SUMMARY:Celebrating Europe @ ESC in Basel
DESCRIPTION:At a time when European achievements are increasingly being cal
 led into question\, we - Volt Switzerland together with our progressive fri
 ends from Operation Libero - want to set an example. A sign in favour of a 
 vibrant\, open and young Europe. The Eurovision Song Contest is more than j
 ust a music event. It is a symbol of cultural diversity\, of creative freed
 om and of how we can come together despite all our differences. We are taki
 ng this as an opportunity to connect with young people from Switz
LOCATION:Kaserne Basel
URL:https://voltswitzerland.org/events/volt-triregio-basel-meet-greet-1
END:VEVENT
END:VCALENDAR
