BEGIN:VCALENDAR
VERSION:2.0
PRODID:-//Volt Europa//Events//EN
CALSCALE:GREGORIAN
METHOD:PUBLISH
BEGIN:VEVENT
UID:volt-triregio-basel-meet-greet-1776790800@voltschweiz.org
DTSTAMP:20260423T111624Z
DTSTART;TZID=Europe/Zurich:20260421T190000
DTEND;TZID=Europe/Zurich:20260421T210000
SUMMARY:Volt Triregio Basel Meet & Greet
DESCRIPTION:Get to know us at a cosy meet & greet in the border region near
  Basel. Come by for a few beers (or your favourite non-alcoholic drink) and
  discuss Volt\, Switzerland\, Europe and more with us.
LOCATION:Klara\, Clarastrasse 13\, Basel
URL:https://voltswitzerland.org/events/volt-triregio-basel-meet-greet
END:VEVENT
END:VCALENDAR
