BEGIN:VCALENDAR
VERSION:2.0
PRODID:-//Volt Europa//Events//EN
CALSCALE:GREGORIAN
METHOD:PUBLISH
BEGIN:VEVENT
UID:volt-ukraine-solidemo-1740230100@voltschweiz.org
DTSTAMP:20260423T210402Z
DTSTART;TZID=Europe/Zurich:20250222T141500
DTEND;TZID=Europe/Zurich:20250222T153000
SUMMARY:Ukraine Solidaritätsdemo in Bern
DESCRIPTION:Komm mit uns an die Solidaritätsdemo für die Ukraine in Bern 
 💛💙
LOCATION:Münsterplatz\, Bern
URL:https://voltschweiz.org/veranstaltungen/volt-ukraine-solidemo
END:VEVENT
END:VCALENDAR
