BEGIN:VCALENDAR
VERSION:2.0
PRODID:-//Volt Europa//Events//EN
CALSCALE:GREGORIAN
METHOD:PUBLISH
BEGIN:VEVENT
UID:volt-zentralschweiz-pride-demonstration-1725127200@voltschweiz.org
DTSTAMP:20260423T111010Z
DTSTART;TZID=Europe/Zurich:20240831T200000
DTEND;TZID=Europe/Zurich:20240831T220000
SUMMARY:Volt @ Pride Zentralschweiz Night Demonstration
DESCRIPTION:Wir nehmen dieses Jahr an der Pride Zentralschweiz Teil! Komm v
 orbei und setze gemeinsam ein Zeichen für Inklusion von allen! Volt kämpf
 t für Gleichstellung der LGBTQIA+ Community in ganz Europa. Und gerade in 
 der aktuellen Zeit ist das wieder wichtig. Also komm mit uns auf die Strass
 e!
LOCATION:Nationalquai\, Luzern
URL:https://voltschweiz.org/veranstaltungen/volt-zentralschweiz-pride-demon
 stration
END:VEVENT
END:VCALENDAR
