BEGIN:VCALENDAR
VERSION:2.0
PRODID:-//Volt Europa//Events//EN
CALSCALE:GREGORIAN
METHOD:PUBLISH
BEGIN:VEVENT
UID:volt-zuerich-meet-greet-1775062800@voltschweiz.org
DTSTAMP:20260423T123254Z
DTSTART;TZID=Europe/Zurich:20260401T190000
DTEND;TZID=Europe/Zurich:20260401T210000
SUMMARY:Volt Zürich Meet & Greet
DESCRIPTION:Get to know us at a cosy meet & greet in beautiful Zurich. Come
  by for a few beers (or your favourite non-alcoholic drink) and discuss Vol
 t\, Switzerland\, Europe and more with us.
LOCATION:BIERlab\, Grüngasse 7\, 8004 Zürich
URL:https://voltswitzerland.org/events/volt-zuerich-meet-greet
END:VEVENT
END:VCALENDAR
