BEGIN:VCALENDAR
VERSION:2.0
PRODID:-//Volt Europa//Events//EN
CALSCALE:GREGORIAN
METHOD:PUBLISH
BEGIN:VEVENT
UID:who-gets-to-play-women-power-visibility-in-football-1751478300@voltschw
 eiz.org
DTSTAMP:20260423T145618Z
DTSTART;TZID=Europe/Zurich:20250702T194500
DTEND;TZID=Europe/Zurich:20250702T204500
SUMMARY:Who gets to play? Women\, power & visibility in football
DESCRIPTION:To mark the start of Euro 2025\, the Bern regional team of  Ope
 ration Libero\, Amnesty International  and  Volt  are organising a panel di
 scussion. Together we will talk about equality in sport and beyond. Footbal
 l serves as both a stage and a mirror - for power relations\, stereotypical
  role models and gaps in representation. With us are: Agota Lavoyer  - spea
 ker and author specialising in sexualised violence and victim protection Sa
 skia Bürki  - goalkeeper at FC Rapperswil-Jona Dr Patricia Widmer
LOCATION:Caffè Bar Riva\, Muristrasse 21e\, 3006 Bern
URL:https://voltswitzerland.org/events/who-gets-to-play-women-power-visibil
 ity-in-football
END:VEVENT
END:VCALENDAR
